BEGIN:VCALENDAR
VERSION:2.0
PRODID:GIGPRESS 2.0 WORDPRESS PLUGIN
CALSCALE:GREGORIAN
X-WR-TIMEZONE:Etc/GMT
METHOD:PUBLISH
BEGIN:VTIMEZONE
TZID:GMT
BEGIN:STANDARD
DTSTART:20071028T010000
TZOFFSETTO:+0000
TZOFFSETFROM:+0000
END:STANDARD
END:VTIMEZONE
BEGIN:VEVENT
SUMMARY:Alter Ego Duo at West Tradies Club
DESCRIPTION:Price: Free entry. Notes: Alter Ego duo are back to rock Tradies in the main lounge! No Minors
LOCATION:West Tradies Club\, Dharruk\, AU
UID:20260502T100000Z-645-mark@mybusinessengine.com
URL:https://merilynsteele.com
DTSTART;VALUE=DATE-TIME;TZID=GMT:20260502T100000Z
DTEND;VALUE=DATE-TIME;TZID=GMT:20260502T100000Z
DTSTAMP:20260420T120845Z
END:VEVENT
END:VCALENDAR